BEGIN:VCALENDAR
VERSION:2.0
PRODID:-//Sch&uuml;tzenverein Krottorf von 1823 e.V. - ECPv6.15.20//NONSGML v1.0//EN
CALSCALE:GREGORIAN
METHOD:PUBLISH
X-WR-CALNAME:Sch&uuml;tzenverein Krottorf von 1823 e.V.
X-ORIGINAL-URL:https://schuetzenverein-krottorf.de
X-WR-CALDESC:Veranstaltungen für Sch&uuml;tzenverein Krottorf von 1823 e.V.
REFRESH-INTERVAL;VALUE=DURATION:PT1H
X-Robots-Tag:noindex
X-PUBLISHED-TTL:PT1H
BEGIN:VTIMEZONE
TZID:UTC
BEGIN:STANDARD
TZOFFSETFROM:+0000
TZOFFSETTO:+0000
TZNAME:UTC
DTSTART:20240101T000000
END:STANDARD
END:VTIMEZONE
BEGIN:VEVENT
DTSTART;TZID=UTC:20251003T140000
DTEND;TZID=UTC:20251003T170000
DTSTAMP:20260421T175406
CREATED:20241111T115749Z
LAST-MODIFIED:20241111T115751Z
UID:1634-1759500000-1759510800@schuetzenverein-krottorf.de
SUMMARY:Bürgermeisterpokal 2025
DESCRIPTION:Weitere Informationen erfolgen später
URL:https://schuetzenverein-krottorf.de/event/buergermeisterpokal-2025/
ATTACH;FMTTYPE=image/jpeg:https://schuetzenverein-krottorf.de/wp-content/uploads/2024/11/Infos-spaeter.jpg
END:VEVENT
BEGIN:VEVENT
DTSTART;TZID=UTC:20251031T180000
DTEND;TZID=UTC:20251031T233000
DTSTAMP:20260421T175406
CREATED:20241111T115851Z
LAST-MODIFIED:20251024T104908Z
UID:1636-1761933600-1761953400@schuetzenverein-krottorf.de
SUMMARY:Halloweenparty 2025
DESCRIPTION:Am 31. Oktober 2025 ab 18:00 Uhr feiern wir unsere große Halloween Party beim Schützenverein Krottorf! \n\n\n\nEuch erwartet:• Fassbier und verschiedene Getränke• Leckeres vom Grill• KostümwettbewerbMit Kostüm gibt’s 1 Freibier oder Cola/Fanta/Sprite gratis!  \n\n\n\nKommt vorbei\, bringt gute Laune mit und feiert mit Freunden\, Familie und Bekannten einen richtig schönen Abend.Für Musik\, Essen und Getränke ist bestens gesorgt. \n\n\n\n Ort: Schützenverein Krottorf Datum & Uhrzeit: 31.10.2025 | ab 18:00 Uhr \n\n\n\nWir freuen uns auf einen tollen Abend mit euch!
URL:https://schuetzenverein-krottorf.de/event/halloweenparty-2025/
ATTACH;FMTTYPE=image/png:https://schuetzenverein-krottorf.de/wp-content/uploads/2024/11/Orange-Grau-Weiss-Halloween-Party-Einladung-Instagram-Story.png
END:VEVENT
END:VCALENDAR