BEGIN:VCALENDAR
VERSION:2.0
PRODID:-//Sch&uuml;tzenverein Krottorf von 1823 e.V. - ECPv6.15.20//NONSGML v1.0//EN
CALSCALE:GREGORIAN
METHOD:PUBLISH
X-WR-CALNAME:Sch&uuml;tzenverein Krottorf von 1823 e.V.
X-ORIGINAL-URL:https://schuetzenverein-krottorf.de
X-WR-CALDESC:Veranstaltungen für Sch&uuml;tzenverein Krottorf von 1823 e.V.
REFRESH-INTERVAL;VALUE=DURATION:PT1H
X-Robots-Tag:noindex
X-PUBLISHED-TTL:PT1H
BEGIN:VTIMEZONE
TZID:UTC
BEGIN:STANDARD
TZOFFSETFROM:+0000
TZOFFSETTO:+0000
TZNAME:UTC
DTSTART:20240101T000000
END:STANDARD
END:VTIMEZONE
BEGIN:VEVENT
DTSTART;TZID=UTC:20250725T080000
DTEND;TZID=UTC:20250727T170000
DTSTAMP:20260421T232237
CREATED:20241111T115643Z
LAST-MODIFIED:20250710T192306Z
UID:1632-1753430400-1753635600@schuetzenverein-krottorf.de
SUMMARY:Schützenfest 2025
DESCRIPTION:Viel Spaß\, Freude sowie ein erfolgreiches Volks- und Schützenwochenende 2025 wünscht allen Bürgern\, Freunden\, Gästen\, Vereinen\, Sponsoren und Anhängern der Vorstand des SV Krottorf von 1823 e.V. \n\n\n\n \n\n\n\n\n\n\n\n\nFreitag\, 25.07.2025\n\n\n\n\n\n\n\n18.00 – 19.30\n\n\n\n\n\nTreffpunkt und Umzug aller Schützen\, Bürger\, Gäste und Freunde auf dem Eichplatz zur Abholung der Könige 2024 in standesgemäßer Begleitung durch die Schalmeienkapelle Sülldorf. \n\n\n\n\n\n\n\n\n\n\n\n19.30 – 20.00\n\n\n\n\n\nPlatzkonzert im Festzelt auf dem Schützenplatz mit der Schalmeienkapelle Sülldorf 1964 e.V. \n\n\n\n\n\n\n\n\n\n\n\n\n\n\n\n20.00 – 01.00\n\n\n\n\n\nÖffentlicher Kameradschaftsabend mit Musik und Tanz für JUNG und ALT im Festzelt. \n\n\n\nEINTRITT AB 16 JAHREN.Ticket: 5\,00 € \n\n\n\n\n\n\n\n\n\nSamstag\, 26.07.2025\n\n\n\n\n\n\n\n10.00 – 12.00\n\n\n\n\n\nAusschießen der Könige 2025 \n\n\n\nKönigsschiessen auf dem Schiessstand des SV Krottorf von 1823 e.V.  (Altersklasse 6-12 Jahren mit Lasergewehr)Schützenfrühstück im Schützenhaus \n\n\n\n\n\n\n\n\n\n\n\n14.30 – 17.00\n\n\n\n\n\nKinder- & Familiennachmittag \n\n\n\nKaffee & Kuchen im FestzeltProgramm der Kita Klettermax aus Krottorf\,dem Gröninger Carnevalsverein\, Schausteller mit Bungee\, Kinderkarussell und Crêpes\,  Kinderschminken\, Eismobil u.v.m. \n\n\n\n\n\n\n\n\n\n\n\n20.00 – 20.30\n\n\n\n\n\nPROKLAMATION \n\n\n\nProklamation der Majestäten 2025 \n\n\n\n\n\n\n\n\n\nSCHÜTZENBALL\n\n\n\n\n\n21.00 – 02.00\n\n\n\n\n\n\n\n\n\nmit der Live-Partyband „Roots“ aus Köthen in Begleitung von DJ Marco / Do Music \n\n\n\nab 19 Uhr | ab 16 JahrenTicket: 10\,00 € \n\n\n\n\n\n\n\n\n\nSonntag\, 27.07.2025\n\n\n\n\n\n\n\n09.30 – 10.30\n\n\n\n\n\nTreffen und Umzug aller Schützen\, Bürger\, Gästeund Freunde am Schützenhaus auf dem Schützenplatz \n\n\n\n\n\n\n\n\n\n\n\nab 10.30\n\n\n\n\n\nFrühshoppem \n\n\n\nFrühschoppen im Festzelt mit musikalischerUmrahmung sowie durch die Schalmeienkapelle Sülldorf
URL:https://schuetzenverein-krottorf.de/event/schuetzenfest-2025/
LOCATION:Eichplatz Krottorf\, Eichplatz\, 39397 Gröningen-Krottorf
ATTACH;FMTTYPE=image/jpeg:https://schuetzenverein-krottorf.de/wp-content/uploads/2024/11/luftbild.jpg
END:VEVENT
END:VCALENDAR