BEGIN:VCALENDAR
VERSION:2.0
PRODID:-//Sch&uuml;tzenverein Krottorf von 1823 e.V. - ECPv6.15.20//NONSGML v1.0//EN
CALSCALE:GREGORIAN
METHOD:PUBLISH
X-ORIGINAL-URL:https://schuetzenverein-krottorf.de
X-WR-CALDESC:Veranstaltungen für Sch&uuml;tzenverein Krottorf von 1823 e.V.
REFRESH-INTERVAL;VALUE=DURATION:PT1H
X-Robots-Tag:noindex
X-PUBLISHED-TTL:PT1H
BEGIN:VTIMEZONE
TZID:UTC
BEGIN:STANDARD
TZOFFSETFROM:+0000
TZOFFSETTO:+0000
TZNAME:UTC
DTSTART:20240101T000000
END:STANDARD
END:VTIMEZONE
BEGIN:VEVENT
DTSTART;TZID=UTC:20250104T140000
DTEND;TZID=UTC:20250104T170000
DTSTAMP:20260422T102530
CREATED:20241111T115307Z
LAST-MODIFIED:20241111T115308Z
UID:1625-1735999200-1736010000@schuetzenverein-krottorf.de
SUMMARY:Neujahrspreisschießen 2025
DESCRIPTION:Weitere Informationen folgen später
URL:https://schuetzenverein-krottorf.de/event/neujahrspreisschiessen-2025/
ATTACH;FMTTYPE=image/jpeg:https://schuetzenverein-krottorf.de/wp-content/uploads/2024/11/Infos-spaeter.jpg
END:VEVENT
END:VCALENDAR