BEGIN:VCALENDAR
VERSION:2.0
PRODID:-//Sch&uuml;tzenverein Krottorf von 1823 e.V. - ECPv6.15.20//NONSGML v1.0//EN
CALSCALE:GREGORIAN
METHOD:PUBLISH
X-ORIGINAL-URL:https://schuetzenverein-krottorf.de
X-WR-CALDESC:Veranstaltungen für Sch&uuml;tzenverein Krottorf von 1823 e.V.
REFRESH-INTERVAL;VALUE=DURATION:PT1H
X-Robots-Tag:noindex
X-PUBLISHED-TTL:PT1H
BEGIN:VTIMEZONE
TZID:UTC
BEGIN:STANDARD
TZOFFSETFROM:+0000
TZOFFSETTO:+0000
TZNAME:UTC
DTSTART:20230101T000000
END:STANDARD
END:VTIMEZONE
BEGIN:VEVENT
DTSTART;TZID=UTC:20241030T180000
DTEND;TZID=UTC:20241030T233000
DTSTAMP:20260422T160020
CREATED:20241016T190531Z
LAST-MODIFIED:20241016T193615Z
UID:1468-1730311200-1730331000@schuetzenverein-krottorf.de
SUMMARY:Halloween
DESCRIPTION:Am Mittwoch\, den 30. Oktober 2024\, laden wir dich ein zu einem gruseligen Abend voller Spaß und Spannung im Schützenhaus Krottorf!  \n\n\n\nWas erwartet dich?– Fassbier & Leckeres vom Grill – Die „Süßes-Saures“ Wanderung – Mach dich bereit für ein schauriges Abenteuer! – Der 1. Kürbiswettbewerb – Gestalte deinen eigenen Kürbis und gewinne einen tollen Preis!Abgabe ab 17:00 Uhr  \n\n\n\n Wann?Start ist um 18:00 Uhr. \n\n\n\nSpezial für Kostümierte: Wer im Kostüm erscheint\, erhält einen Freibier  \n\n\n\nEintritt frei! \n\n\n\nSei bereit für Donner\, Blitz und dunkle Schwaden\, denn wir feiern bis Mitternacht.  Die geheimnisvollen Zutaten für einen zauberhaften Abend sind bereits vorbereitet… traust du dich\, dabei zu sein? \n\n\n\nWir freuen uns auf einen spuktakulären Abend mit dir!
URL:https://schuetzenverein-krottorf.de/event/haloween/
ATTACH;FMTTYPE=image/jpeg:https://schuetzenverein-krottorf.de/wp-content/uploads/2024/10/1.jpg
END:VEVENT
END:VCALENDAR